BEGIN:VCALENDAR
VERSION:2.0
PRODID:-//All.America - ECPv6.6.4.2//NONSGML v1.0//EN
CALSCALE:GREGORIAN
METHOD:PUBLISH
X-WR-CALNAME:All.America
X-ORIGINAL-URL:https://allamerica.org
X-WR-CALDESC:Events for All.America
REFRESH-INTERVAL;VALUE=DURATION:PT1H
X-Robots-Tag:noindex
X-PUBLISHED-TTL:PT1H
BEGIN:VTIMEZONE
TZID:UTC
BEGIN:STANDARD
TZOFFSETFROM:+0000
TZOFFSETTO:+0000
TZNAME:UTC
DTSTART:20230101T000000
END:STANDARD
END:VTIMEZONE
BEGIN:VEVENT
DTSTART;TZID=UTC:20230918T110000
DTEND;TZID=UTC:20230918T123000
DTSTAMP:20260421T112048
CREATED:20230828T194641Z
LAST-MODIFIED:20230828T194641Z
UID:7075-1695034800-1695040200@allamerica.org
SUMMARY:EveryKC Region 4 Roundtable
DESCRIPTION:You’re invited to the fall Regional Roundtables for EveryKC\, an initiative of Love KC. EveryKC facilitates business\, church\, and organization leader collaboration so every person in Kansas City has multiple opportunities to hear the good news of Jesus from a friend. \nRegional Roundtables are a valuable opportunity to build relationships\, share ideas\,and find common ground. \nKansas City is so big and diverse no one ministry or church can reach every person in the city for Jesus. It takes all of us. \nRegional Roundtables bring together ministry leaders\, Pastors\, and interested marketplace leaders to collaborate around fulfilling the five finish lines of the Great Commission: \n\n\nPrayer \n\n\nCompassion/Justice \n\n\nEvangelism \n\n\nBible engagement \n\n\nMultiplication of communities\, mircochurches\, and churches. \n\n\nParticipants are invited to choose a finish line table and meet to better understand how to move each finish line forward\, learn best practices\, and where we are stuck. At the end of that time\, we reconvene to debrief and pray before we go. \nIf we work as catalysts to bring the body of Christ together\, the big C church will do what we are designed to do–collaborate in unity to fulfill the mission of Jesus in KC.
URL:https://allamerica.org/event/everykc-region-4-roundtable/
LOCATION:Westside Family Church\, 8500 Woodsonia Drive\, Lenexa\, KS\, 66227\, United States
CATEGORIES:Kansas,Kansas City
END:VEVENT
END:VCALENDAR