BEGIN:VCALENDAR
VERSION:2.0
PRODID:-//All.America - ECPv6.6.4.2//NONSGML v1.0//EN
CALSCALE:GREGORIAN
METHOD:PUBLISH
X-WR-CALNAME:All.America
X-ORIGINAL-URL:https://allamerica.org
X-WR-CALDESC:Events for All.America
REFRESH-INTERVAL;VALUE=DURATION:PT1H
X-Robots-Tag:noindex
X-PUBLISHED-TTL:PT1H
BEGIN:VTIMEZONE
TZID:America/Los_Angeles
BEGIN:DAYLIGHT
TZOFFSETFROM:-0800
TZOFFSETTO:-0700
TZNAME:PDT
DTSTART:20230312T100000
END:DAYLIGHT
BEGIN:STANDARD
TZOFFSETFROM:-0700
TZOFFSETTO:-0800
TZNAME:PST
DTSTART:20231105T090000
END:STANDARD
END:VTIMEZONE
BEGIN:VEVENT
DTSTART;TZID=America/Los_Angeles:20230402T120000
DTEND;TZID=America/Los_Angeles:20230402T210000
DTSTAMP:20260421T094633
CREATED:20230331T210146Z
LAST-MODIFIED:20230331T210254Z
UID:6853-1680436800-1680469200@allamerica.org
SUMMARY:Hope Fest LA
DESCRIPTION:
URL:https://allamerica.org/event/hope-fest-la/
LOCATION:LA Memorial Colesium\, 3911 Figueroa St\, Los Angeles\, CA\, 90037\, United States
CATEGORIES:California,Los Angeles
ORGANIZER;CN="Hope California":MAILTO:Info@hopecalifornia.us
END:VEVENT
END:VCALENDAR