BEGIN:VCALENDAR
VERSION:2.0
PRODID:-//All.America - ECPv6.6.4.2//NONSGML v1.0//EN
CALSCALE:GREGORIAN
METHOD:PUBLISH
X-ORIGINAL-URL:https://allamerica.org
X-WR-CALDESC:Events for All.America
REFRESH-INTERVAL;VALUE=DURATION:PT1H
X-Robots-Tag:noindex
X-PUBLISHED-TTL:PT1H
BEGIN:VTIMEZONE
TZID:UTC
BEGIN:STANDARD
TZOFFSETFROM:+0000
TZOFFSETTO:+0000
TZNAME:UTC
DTSTART:20220101T000000
END:STANDARD
TZID:America/Chicago
BEGIN:DAYLIGHT
TZOFFSETFROM:-0600
TZOFFSETTO:-0500
TZNAME:CDT
DTSTART:20220313T080000
END:DAYLIGHT
BEGIN:STANDARD
TZOFFSETFROM:-0500
TZOFFSETTO:-0600
TZNAME:CST
DTSTART:20221106T070000
END:STANDARD
END:VTIMEZONE
BEGIN:VEVENT
DTSTART;VALUE=DATE:20231024
DTEND;VALUE=DATE:20231026
DTSTAMP:20260421T231857
CREATED:20230828T195941Z
LAST-MODIFIED:20230828T195941Z
UID:7087-1698105600-1698278399@allamerica.org
SUMMARY:EveryKC Kansas City Summit
DESCRIPTION:Details Coming Soon!
URL:https://allamerica.org/event/everykc-kansas-city-summit/
CATEGORIES:City Summit,Kansas,Kansas City,Kansas City,Missouri
END:VEVENT
BEGIN:VEVENT
DTSTART;TZID=UTC:20230928T090000
DTEND;TZID=UTC:20230928T113000
DTSTAMP:20260421T231857
CREATED:20230828T195340Z
LAST-MODIFIED:20230828T195424Z
UID:7081-1695891600-1695900600@allamerica.org
SUMMARY:EveryKC Region 3 Roundtable
DESCRIPTION:You’re invited to the fall Regional Roundtables for EveryKC\, an initiative of Love KC. EveryKC facilitates business\, church\, and organization leader collaboration so every person in Kansas City has multiple opportunities to hear the good news of Jesus from a friend. \nRegional Roundtables are a valuable opportunity to build relationships\, share ideas\,and find common ground. \nKansas City is so big and diverse no one ministry or church can reach every person in the city for Jesus. It takes all of us. \nRegional Roundtables bring together ministry leaders\, Pastors\, and interested marketplace leaders to collaborate around fulfilling the five finish lines of the Great Commission: \n1.Prayer \n2.Compassion/Justice \n3.Evangelism \n4.Bible engagement \n5.3Multiplication of communities\, mircochurches\, and churches. \nParticipants are invited to choose a finish line table and meet to better understand how to move each finish line forward\, learn best practices\, and where we are stuck. At the end of that time\, we reconvene to debrief and pray before we go. \nIf we work as catalysts to bring the body of Christ together\, the big C church will do what we are designed to do–collaborate in unity to fulfill the mission of Jesus in KC.
URL:https://allamerica.org/event/everykc-region-3-roundtable/
LOCATION:Life Quest Church\, 1400 N Scott Ave\, Belton\, MO\, 64012\, United States
CATEGORIES:Kansas City,Missouri
END:VEVENT
BEGIN:VEVENT
DTSTART;TZID=UTC:20230912T110000
DTEND;TZID=UTC:20230912T123000
DTSTAMP:20260421T231857
CREATED:20230828T194125Z
LAST-MODIFIED:20230828T194826Z
UID:7072-1694516400-1694521800@allamerica.org
SUMMARY:EveryKC Region 2 Roundtable
DESCRIPTION:You’re invited to the fall Regional Roundtables for EveryKC\, an initiative of Love KC. EveryKC facilitates business\, church\, and organization leader collaboration so every person in Kansas City has multiple opportunities to hear the good news of Jesus from a friend. \nRegional Roundtables are a valuable opportunity to build relationships\, share ideas\,and find common ground. \nKansas City is so big and diverse no one ministry or church can reach every person in the city for Jesus. It takes all of us. \nRegional Roundtables bring together ministry leaders\, Pastors\, and interested marketplace leaders to collaborate around fulfilling the five finish lines of the Great Commission: \nPrayer \nCompassion/Justice \nEvangelism \nBible engagement \nMultiplication of communities\, mircochurches\, and churches. \nParticipants are invited to choose a finish line table and meet to better understand how to move each finish line forward\, learn best practices\, and where we are stuck. At the end of that time\, we reconvene to debrief and pray before we go. \nIf we work as catalysts to bring the body of Christ together\, the big C church will do what we are designed to do–collaborate in unity to fulfill the mission of Jesus in KC.
URL:https://allamerica.org/event/everykc-region-2-roundtable/
LOCATION:New Life City Church\, 1717 McGee Street\, Kansas City\, MO\, 64108\, United States
CATEGORIES:Kansas City,Missouri
END:VEVENT
BEGIN:VEVENT
DTSTART;TZID=UTC:20230831T113000
DTEND;TZID=UTC:20230831T130500
DTSTAMP:20260421T231857
CREATED:20230828T193103Z
LAST-MODIFIED:20230828T193903Z
UID:7068-1693481400-1693487100@allamerica.org
SUMMARY:EveryKC Region 1 Roundtable
DESCRIPTION:You’re invited to the fall Regional Roundtables for EveryKC\, an initiative of Love KC. EveryKC facilitates business\, church\, and organization leader collaboration so every person in Kansas City has multiple opportunities to hear the good news of Jesus from a friend. \nRegional Roundtables are a valuable opportunity to build relationships\, share ideas\,and find common ground. \nKansas City is so big and diverse no one ministry or church can reach every person in the city for Jesus. It takes all of us. \nRegional Roundtables bring together ministry leaders\, Pastors\, and interested marketplace leaders to collaborate around fulfilling the five finish lines of the Great Commission: \n\n\nPrayer \n\n\nCompassion/Justice \n\n\nEvangelism \n\n\nBible engagement \n\n\nMultiplication of communities\, mircochurches\, and churches. \n\n\nParticipants are invited to choose a finish line table and meet to better understand how to move each finish line forward\, learn best practices\, and where we are stuck. At the end of that time\, we reconvene to debrief and pray before we go. \nIf we work as catalysts to bring the body of Christ together\, the big C church will do what we are designed to do–collaborate in unity to fulfill the mission of Jesus in KC.
URL:https://allamerica.org/event/everykc-region-1-roundtable/
LOCATION:Shoal Creek Community Church\, 6816 North Church Road\, Pleasant Valley\, MO\, 64068\, United States
CATEGORIES:Kansas City,Missouri
END:VEVENT
BEGIN:VEVENT
DTSTART;TZID=UTC:20230505T180000
DTEND;TZID=UTC:20230506T140000
DTSTAMP:20260421T231857
CREATED:20230414T201821Z
LAST-MODIFIED:20230414T202004Z
UID:6897-1683309600-1683381600@allamerica.org
SUMMARY:Prayer Walk for KC Schools
DESCRIPTION:Claim Your Campus and Caring For Kids KC\, in partnership with Pray KC\, are organizing a city-wide prayer initiative to support and bless our local schools!  \nOn Friday\, May 5th\, we will come together and enjoy a light dinner and community time around the table starting at 6 pm. Then at 7 pm\, we move into a time of worship and prayer together for our schools\, covering our students and teachers in prayer! That will all happen at Macedonia Baptist Church\, 1700 NE Linwood Blvd\, KCMO.  \nMay 6th will be a unified moment is for Christians to show up for our city with love and to pray for God’s protection\, provision\, and peace on each campus. We invite you to participate however you can!  Leaders will lead each group listed below from 9 am-2 pm.  \nEach district list will be split up and covered at two different points of the day.  The first half will be covered from 9-11 am. The second half will be prayed for from 12-2 pm.  \nYou can sign up for one or both slots!  \nOnce you sign up for a prayer walk group\, Claim Your Campus will email you a prayer guide and schedule!
URL:https://allamerica.org/event/prayer-walk-for-kc-schools/
LOCATION:Macedonia Baptist church\, 1700 NE Linwood Blv\, Kansas City\, MO\, United States
CATEGORIES:Kansas,Kansas City,Kansas City,Missouri,Prayer Events,Schools events
ATTACH;FMTTYPE=image/jpeg:https://allamerica.org/wp-content/uploads/2023/04/Pray-KC.jpg
END:VEVENT
BEGIN:VEVENT
DTSTART;TZID=UTC:20230413T073000
DTEND;TZID=UTC:20230413T090000
DTSTAMP:20260421T231857
CREATED:20230407T214849Z
LAST-MODIFIED:20230407T220206Z
UID:6878-1681371000-1681376400@allamerica.org
SUMMARY:Kansas City - Johnson County
DESCRIPTION:God is moving in Kansas City and the harvest is ripe! \nLike never before\, God is knitting the Body of Christ together with a common vision to see every soul saved. It’s time to connect on the real issues in our communities\, and to focus on reaching the lost! \nJoin us April 13th at the Big Biscuit in Lenexa as Christian leaders from different ethnicities\, theological backgrounds and burdens come together around tables to solve real challenges\, build relationships\, and dream about what we could do together that we couldn’t do apart. This is not a new organization we are asking you to join\, rather we aim to bring together the family of God to look at the Great Commission in a new light\, and develop sustainable strategies built around long-term relationships. \nChristian leaders from different areas of society (ministries\, the marketplace\, education\, etc.) will bring their perspective to the table\, as we discuss what it would look like to see every person reached\, and every area of our society touched and transformed by the gospel. At the end of our time together we will leave with next steps and be able to answer the question\,” What area of Johnson County am I responsible for?” \nWe are imagining a future where each region meets 2x a year in meetings like this where we work together to assess how our region is doing in 5 key areas: \n\nPrayer\nBible Engagement\nEvangelism/Discipleship\nCompassion/Justice\nChurch or micro-church planting\n\nWe will track the fruitfulness through the year in each region\, and once a year each of the regions meet to gain an assessment of the progress we are making across the city over time. \nIt will take us time and effort to establish a baseline but in a couple of years we will have a picture of what is happening across our city. Where there is progress\, we will attempt to replicate it in the other regions. Where these is need\, we will attempt to rally to the need.
URL:https://allamerica.org/event/johnsoncountyroundtable/
LOCATION:The Big Biscuit\, 16111 West 87th Street\, Lenexa\, KS\, 66219\, United States
CATEGORIES:Finish Line events,Kansas,Kansas City,Kansas City,Missouri,statewide events
ATTACH;FMTTYPE=image/png:https://allamerica.org/wp-content/uploads/2022/10/every-kc5.png
END:VEVENT
BEGIN:VEVENT
DTSTART;TZID=UTC:20221117T190000
DTEND;TZID=UTC:20221117T203000
DTSTAMP:20260421T231857
CREATED:20220908T180446Z
LAST-MODIFIED:20221018T145542Z
UID:6559-1668711600-1668717000@allamerica.org
SUMMARY:Kansas City Summit
DESCRIPTION:God is moving in the Kansas City\, the harvest is ripe! \nLike never before\, God is knitting the Body of Christ together with a common vision to see every soul saved. It’s time to connect on the real issues in our communities\, and to focus on reaching the lost!  \nJoin us this June as Christian leaders from different ethnicities\, theological backgrounds and burdens come together around tables to solve real challenges\, build relationships\, and dream about what we could do together that we couldn’t do apart. This is not a new organization we are asking you to join\, rather we aim to bring together the family of God to look at the Great Commission in a new light\, and develop sustainable strategies built around long-term relationships. \nChristian leaders from different areas of society (ministries\, the marketplace\, education\, etc.) will bring their perspective to the table\, as we discuss what it would look like to see every person reached\, and every area of our society touched and transformed by the gospel.
URL:https://allamerica.org/event/kansas-city-summit/2022-11-17/
LOCATION:New City Church\, 8622 Blue Ridge Blvd\, Raytown\, Missouri\, 64138
CATEGORIES:Kansas,Kansas City,Kansas City,Missouri,Round Table Gatherings
ATTACH;FMTTYPE=image/png:https://allamerica.org/wp-content/uploads/2022/10/every-kc5.png
END:VEVENT
BEGIN:VEVENT
DTSTART;TZID=UTC:20221008T180000
DTEND;TZID=UTC:20221008T200000
DTSTAMP:20260421T231857
CREATED:20220902T152937Z
LAST-MODIFIED:20220902T152937Z
UID:6549-1665252000-1665259200@allamerica.org
SUMMARY:Dinner with Jeff Vanderstelt - Kansas City
DESCRIPTION:Join us for dinner with Jeff Vanderstelt\, visionary leader of Saturate and the Soma Family of Churches in Seattle. \nOver the past seven years Saturate the Sound has brought together over one hundred church leaders representing over eighty Christian Organizations to learn and live together. \nCome be encouraged and hear what we hope to accomplish in KC. \nSpace is limited to allow for intentional time so please register now so we can secure your spot.
URL:https://allamerica.org/event/dinner-with-jeff-vanderstelt-kansas-city/2022-10-08/
LOCATION:Rc’s Restaraunt & Lounge\, 330 East 135th Street\, Kansas City\, MO\, 64145\, United States
CATEGORIES:Kansas,Kansas City,Kansas City,Missouri
END:VEVENT
BEGIN:VEVENT
DTSTART;TZID=America/Chicago:20220901T110000
DTEND;TZID=America/Chicago:20220901T140000
DTSTAMP:20260421T231857
CREATED:20220817T151201Z
LAST-MODIFIED:20220824T144646Z
UID:6368-1662030000-1662040800@allamerica.org
SUMMARY:Kansas City Southeast Roundtable
DESCRIPTION:God is moving in the Kansas City\, the harvest is ripe! \nLike never before\, God is knitting the Body of Christ together with a common vision to see every soul saved. It’s time to connect on the real issues in our communities\, and to focus on reaching the lost! \nJoin us this June as Christian leaders from different ethnicities\, theological backgrounds and burdens come together around tables to solve real challenges\, build relationships\, and dream about what we could do together that we couldn’t do apart. This is not a new organization we are asking you to join\, rather we aim to bring together the family of God to look at the Great Commission in a new light\, and develop sustainable strategies built around long-term relationships. \nChristian leaders from different areas of society (ministries\, the marketplace\, education\, etc.) will bring their perspective to the table\, as we discuss what it would look like to see every person reached\, and every area of our society touched and transformed by the gospel.
URL:https://allamerica.org/event/kc-southeast-roundtable/
LOCATION:Life Quest Church\, 1400 N Scott Ave\, Belton\, MO\, 64012\, United States
CATEGORIES:Kansas City,Missouri,Round Table Gatherings,zone events
ATTACH;FMTTYPE=image/png:https://allamerica.org/wp-content/uploads/2022/03/LoveKC-logo-large.png
END:VEVENT
END:VCALENDAR