BEGIN:VCALENDAR
VERSION:2.0
PRODID:-//All.America - ECPv6.6.4.2//NONSGML v1.0//EN
CALSCALE:GREGORIAN
METHOD:PUBLISH
X-ORIGINAL-URL:https://allamerica.org
X-WR-CALDESC:Events for All.America
REFRESH-INTERVAL;VALUE=DURATION:PT1H
X-Robots-Tag:noindex
X-PUBLISHED-TTL:PT1H
BEGIN:VTIMEZONE
TZID:UTC
BEGIN:STANDARD
TZOFFSETFROM:+0000
TZOFFSETTO:+0000
TZNAME:UTC
DTSTART:20220101T000000
END:STANDARD
TZID:America/New_York
BEGIN:DAYLIGHT
TZOFFSETFROM:-0500
TZOFFSETTO:-0400
TZNAME:EDT
DTSTART:20230312T070000
END:DAYLIGHT
BEGIN:STANDARD
TZOFFSETFROM:-0400
TZOFFSETTO:-0500
TZNAME:EST
DTSTART:20231105T060000
END:STANDARD
TZID:America/Los_Angeles
BEGIN:DAYLIGHT
TZOFFSETFROM:-0800
TZOFFSETTO:-0700
TZNAME:PDT
DTSTART:20220313T100000
END:DAYLIGHT
BEGIN:STANDARD
TZOFFSETFROM:-0700
TZOFFSETTO:-0800
TZNAME:PST
DTSTART:20221106T090000
END:STANDARD
BEGIN:DAYLIGHT
TZOFFSETFROM:-0800
TZOFFSETTO:-0700
TZNAME:PDT
DTSTART:20230312T100000
END:DAYLIGHT
BEGIN:STANDARD
TZOFFSETFROM:-0700
TZOFFSETTO:-0800
TZNAME:PST
DTSTART:20231105T090000
END:STANDARD
TZID:America/Chicago
BEGIN:DAYLIGHT
TZOFFSETFROM:-0600
TZOFFSETTO:-0500
TZNAME:CDT
DTSTART:20220313T080000
END:DAYLIGHT
BEGIN:STANDARD
TZOFFSETFROM:-0500
TZOFFSETTO:-0600
TZNAME:CST
DTSTART:20221106T070000
END:STANDARD
END:VTIMEZONE
BEGIN:VEVENT
DTSTART;TZID=UTC:20231005T070000
DTEND;TZID=UTC:20231005T090000
DTSTAMP:20260420T234350
CREATED:20230912T194745Z
LAST-MODIFIED:20230912T194758Z
UID:7114-1696489200-1696496400@allamerica.org
SUMMARY:Global Leadership Community | B.L.E.S.S: Serve
DESCRIPTION:The Obedience in BLESS: SERVE \nWhat if there was a more organic\, more authentic way to share your faith with your friends\, neighbors\, and coworkers? During this year we will walk through five simple\, straightforward practices that will allow any believer or church to do just that. By consistently living out these practices\, you can affect not just individual lives\, but your entire neighborhood and community—one person at a time.
URL:https://allamerica.org/event/global-leadership-community-b-l-e-s-s-serve/
CATEGORIES:Christian Community events
END:VEVENT
BEGIN:VEVENT
DTSTART;VALUE=DATE:20230527
DTEND;VALUE=DATE:20230528
DTSTAMP:20260420T234350
CREATED:20220920T162522Z
LAST-MODIFIED:20220920T163035Z
UID:6570-1685145600-1685231999@allamerica.org
SUMMARY:GO Day
DESCRIPTION:SHARE THE GOSPEL WITH AT LEAST ONE PERSON ON SATURDAY MAY 27\, 2023\nA DAY TO TELL SOMEONE ABOUT JESUS \nThe initial vision in 2010: “I saw a huge wave going around the world; and an endless number of Christians preaching the Gospel.” This wave of evangelism encircling the earth was all about Jesus\, not about a certain ministry or church movement. Every Christian\, every church\, or denomination united for evangelism. \nThis inspires us to call every believer to reach someone through community outreach or personal evangelism on a single day\, the last Saturday in May.
URL:https://allamerica.org/event/go-day/
CATEGORIES:Evangelism events,Finish Line events
ATTACH;FMTTYPE=image/jpeg:https://allamerica.org/wp-content/uploads/2022/09/GOMovenemt.jpg
END:VEVENT
BEGIN:VEVENT
DTSTART;TZID=UTC:20230505T180000
DTEND;TZID=UTC:20230506T140000
DTSTAMP:20260420T234350
CREATED:20230414T201821Z
LAST-MODIFIED:20230414T202004Z
UID:6897-1683309600-1683381600@allamerica.org
SUMMARY:Prayer Walk for KC Schools
DESCRIPTION:Claim Your Campus and Caring For Kids KC\, in partnership with Pray KC\, are organizing a city-wide prayer initiative to support and bless our local schools!  \nOn Friday\, May 5th\, we will come together and enjoy a light dinner and community time around the table starting at 6 pm. Then at 7 pm\, we move into a time of worship and prayer together for our schools\, covering our students and teachers in prayer! That will all happen at Macedonia Baptist Church\, 1700 NE Linwood Blvd\, KCMO.  \nMay 6th will be a unified moment is for Christians to show up for our city with love and to pray for God’s protection\, provision\, and peace on each campus. We invite you to participate however you can!  Leaders will lead each group listed below from 9 am-2 pm.  \nEach district list will be split up and covered at two different points of the day.  The first half will be covered from 9-11 am. The second half will be prayed for from 12-2 pm.  \nYou can sign up for one or both slots!  \nOnce you sign up for a prayer walk group\, Claim Your Campus will email you a prayer guide and schedule!
URL:https://allamerica.org/event/prayer-walk-for-kc-schools/
LOCATION:Macedonia Baptist church\, 1700 NE Linwood Blv\, Kansas City\, MO\, United States
CATEGORIES:Kansas,Kansas City,Kansas City,Missouri,Prayer Events,Schools events
ATTACH;FMTTYPE=image/jpeg:https://allamerica.org/wp-content/uploads/2023/04/Pray-KC.jpg
END:VEVENT
BEGIN:VEVENT
DTSTART;VALUE=DATE:20230504
DTEND;VALUE=DATE:20230505
DTSTAMP:20260420T234350
CREATED:20220922T201805Z
LAST-MODIFIED:20220922T201805Z
UID:6575-1683158400-1683244799@allamerica.org
SUMMARY:National Day of Prayer
DESCRIPTION:Because of the faith of many of our founding fathers\, public prayer and national days of prayer have a long-standing and significant history in American tradition. The Supreme Court affirmed the right of state legislatures to open their sessions with prayer in Marsh vs. Chambers (1983). \nThe National Day of Prayer is a vital part of our heritage. Since the first call to prayer in 1775\, when the Continental Congress asked the colonies to pray for wisdom in forming a nation\, the call to prayer has continued through our history\, including President Lincoln’s proclamation of a day of “humiliation\, fasting\, and prayer” in 1863. In 1952\, a joint resolution by Congress\, signed by President Truman\, declared an annual national day of prayer. In 1988\, the law was amended and signed by President Reagan\, permanently setting the day as the first Thursday of every May. Each year\, the president signs a proclamation\, encouraging all Americans to pray on this day. Last year\, all 50 state governors plus the governors of several U.S. territories signed similar proclamations.
URL:https://allamerica.org/event/national-day-of-prayer/
CATEGORIES:Finish Line events,Prayer Events
ATTACH;FMTTYPE=image/png:https://allamerica.org/wp-content/uploads/2020/06/2020_06-AA-RL_NatlDayPrayer.png
END:VEVENT
BEGIN:VEVENT
DTSTART;TZID=America/New_York:20230502T090000
DTEND;TZID=America/New_York:20230502T110000
DTSTAMP:20260420T234350
CREATED:20230414T190002Z
LAST-MODIFIED:20230414T190044Z
UID:6893-1683018000-1683025200@allamerica.org
SUMMARY:The Rooftop National Encounter
DESCRIPTION:The Rooftop National Encounter is an opportunity to ask God for His perspective on our nation as we seek Him for revival and spiritual awakening. Based on Peter’s rooftop encounter with God in Acts 10\, we will be asking God to show us what He sees when He looks across Washington D.C. and our nation. We will be asking God to show us where He is at work so we can join Him in His mission. We will be asking God to forgive us as we repent of the ways we have been standing in the way of His mission advancing. \nThis will be a time of listening to His voice as we pursue His heart for our lives\, His Church\, and our nation.
URL:https://allamerica.org/event/6893/
LOCATION:The Rooftop Terrace\, 01 Constitution Avenue Northwes\, Washington\, DC\, 20001\, United States
CATEGORIES:Finish Line events,Prayer Events
ATTACH;FMTTYPE=image/png:https://allamerica.org/wp-content/uploads/2023/04/Screenshot-2023-04-14-at-2.54.31-PM.png
END:VEVENT
BEGIN:VEVENT
DTSTART;TZID=UTC:20230413T073000
DTEND;TZID=UTC:20230413T090000
DTSTAMP:20260420T234350
CREATED:20230407T214849Z
LAST-MODIFIED:20230407T220206Z
UID:6878-1681371000-1681376400@allamerica.org
SUMMARY:Kansas City - Johnson County
DESCRIPTION:God is moving in Kansas City and the harvest is ripe! \nLike never before\, God is knitting the Body of Christ together with a common vision to see every soul saved. It’s time to connect on the real issues in our communities\, and to focus on reaching the lost! \nJoin us April 13th at the Big Biscuit in Lenexa as Christian leaders from different ethnicities\, theological backgrounds and burdens come together around tables to solve real challenges\, build relationships\, and dream about what we could do together that we couldn’t do apart. This is not a new organization we are asking you to join\, rather we aim to bring together the family of God to look at the Great Commission in a new light\, and develop sustainable strategies built around long-term relationships. \nChristian leaders from different areas of society (ministries\, the marketplace\, education\, etc.) will bring their perspective to the table\, as we discuss what it would look like to see every person reached\, and every area of our society touched and transformed by the gospel. At the end of our time together we will leave with next steps and be able to answer the question\,” What area of Johnson County am I responsible for?” \nWe are imagining a future where each region meets 2x a year in meetings like this where we work together to assess how our region is doing in 5 key areas: \n\nPrayer\nBible Engagement\nEvangelism/Discipleship\nCompassion/Justice\nChurch or micro-church planting\n\nWe will track the fruitfulness through the year in each region\, and once a year each of the regions meet to gain an assessment of the progress we are making across the city over time. \nIt will take us time and effort to establish a baseline but in a couple of years we will have a picture of what is happening across our city. Where there is progress\, we will attempt to replicate it in the other regions. Where these is need\, we will attempt to rally to the need.
URL:https://allamerica.org/event/johnsoncountyroundtable/
LOCATION:The Big Biscuit\, 16111 West 87th Street\, Lenexa\, KS\, 66219\, United States
CATEGORIES:Finish Line events,Kansas,Kansas City,Kansas City,Missouri,statewide events
ATTACH;FMTTYPE=image/png:https://allamerica.org/wp-content/uploads/2022/10/every-kc5.png
END:VEVENT
BEGIN:VEVENT
DTSTART;TZID=America/Los_Angeles:20230401T140000
DTEND;TZID=America/Los_Angeles:20230401T190000
DTSTAMP:20260420T234350
CREATED:20230317T221823Z
LAST-MODIFIED:20230317T222027Z
UID:6831-1680357600-1680375600@allamerica.org
SUMMARY:Hope San Diego
DESCRIPTION:
URL:https://allamerica.org/event/hope-san-diego/
LOCATION:Balba Park\, 1418-1570 Russ Blvd\, San Diego\, CA\, 92101\, United States
CATEGORIES:California,Christian Community events,San Diego & Imperial
ATTACH;FMTTYPE=image/jpeg:https://allamerica.org/wp-content/uploads/2023/03/Hope-SD-April-1-2023.jpg
ORGANIZER;CN="Hope California":MAILTO:Info@hopecalifornia.us
END:VEVENT
BEGIN:VEVENT
DTSTART;TZID=America/Los_Angeles:20230322T180000
DTEND;TZID=America/Los_Angeles:20230322T210000
DTSTAMP:20260420T234350
CREATED:20230314T191143Z
LAST-MODIFIED:20230314T194722Z
UID:6811-1679508000-1679518800@allamerica.org
SUMMARY:Awake! South Bay
DESCRIPTION:
URL:https://allamerica.org/event/awake-south-bay/
LOCATION:King’s Way Community Church\, 1748 251st Street\, Lomita\, CA\, 90717\, United States
CATEGORIES:California,Los Angeles,Prayer Events,zone events
ORGANIZER;CN="Pray California / South Bay":MAILTO:norihanaoka@gmail.com
END:VEVENT
BEGIN:VEVENT
DTSTART;TZID=America/Los_Angeles:20230319T140000
DTEND;TZID=America/Los_Angeles:20230319T203000
DTSTAMP:20260420T234350
CREATED:20230314T190502Z
LAST-MODIFIED:20230314T194625Z
UID:6806-1679234400-1679257800@allamerica.org
SUMMARY:Awake! Hollywood
DESCRIPTION:
URL:https://allamerica.org/event/awake-hollywood/2023-03-19/
LOCATION:First Presbyterian Church of Hollywood\, 1760 N. Gower Street\, Hollywood\, CA\, 90028\, United States
CATEGORIES:California,Los Angeles,Prayer Events,zone events
ORGANIZER;CN="Pray California / Hollywood":MAILTO:karen@hpnemail.org
END:VEVENT
BEGIN:VEVENT
DTSTART;TZID=America/Los_Angeles:20230317T193000
DTEND;TZID=America/Los_Angeles:20230318T210000
DTSTAMP:20260420T234350
CREATED:20230314T181527Z
LAST-MODIFIED:20230314T194758Z
UID:6800-1679081400-1679173200@allamerica.org
SUMMARY:Awake! SoCal
DESCRIPTION:
URL:https://allamerica.org/event/awake-socal/2023-03-17/
LOCATION:Grace Church Fullerton\, 1645 W Valencia Dr.\, Fullerton\, CA\, 92833\, United States
CATEGORIES:California,Inland Empire,Los Angeles,Orange County,Prayer Events,San Diego & Imperial,zone events
ORGANIZER;CN="Pray California / SoCal":MAILTO:sam@gmiem.org
END:VEVENT
BEGIN:VEVENT
DTSTART;TZID=America/Los_Angeles:20230317T093000
DTEND;TZID=America/Los_Angeles:20230317T113000
DTSTAMP:20260420T234350
CREATED:20230314T175730Z
LAST-MODIFIED:20230314T194829Z
UID:6793-1679045400-1679052600@allamerica.org
SUMMARY:Awake! San Diego
DESCRIPTION:
URL:https://allamerica.org/event/awake-san-diego/
LOCATION:The River Family Church\, 390 Mimosa Ave.\, Vista\, 92081
CATEGORIES:California,Prayer Events,San Diego & Imperial,zone events
ORGANIZER;CN="Pray California / San Diego":MAILTO:astoehr2@gmail.com
END:VEVENT
BEGIN:VEVENT
DTSTART;TZID=America/Los_Angeles:20230316T183000
DTEND;TZID=America/Los_Angeles:20230316T203000
DTSTAMP:20260420T234350
CREATED:20230314T213700Z
LAST-MODIFIED:20230314T230655Z
UID:6825-1678991400-1678998600@allamerica.org
SUMMARY:Trellis Orange County Launch Night
DESCRIPTION:
URL:https://allamerica.org/event/trellis-orange-county-launch-night/
LOCATION:Colony House\, 401 N Anaheim Blvd\, Anaheim\, CA\, 92805\, United States
CATEGORIES:California,Christian Community events,City Summit,Orange County,Round Table Gatherings,zone events
ORGANIZER;CN="Trellis":MAILTO:info@wearetrellis.com
END:VEVENT
BEGIN:VEVENT
DTSTART;VALUE=DATE:20230212
DTEND;VALUE=DATE:20230213
DTSTAMP:20260420T234350
CREATED:20220628T163355Z
LAST-MODIFIED:20220818T195826Z
UID:6285-1676160000-1676246399@allamerica.org
SUMMARY:Souper Bowl
DESCRIPTION:Take action and tackle hunger on Super Bowl Sunday.
URL:https://allamerica.org/event/souper-bowl/
CATEGORIES:Compassion & Justice events,Finish Line events
ATTACH;FMTTYPE=image/jpeg:https://allamerica.org/wp-content/uploads/2022/06/Souper-Bowl-of-Caring-logo-orig-.jpg
END:VEVENT
BEGIN:VEVENT
DTSTART;VALUE=DATE:20221008
DTEND;VALUE=DATE:20221009
DTSTAMP:20260420T234350
CREATED:20220818T160943Z
LAST-MODIFIED:20220920T161425Z
UID:6427-1665187200-1665273599@allamerica.org
SUMMARY:Love Riverside Event Day - California
DESCRIPTION:Love Riverside Annual Serve Day
URL:https://allamerica.org/event/love-riverside-event-day/
CATEGORIES:California,Compassion & Justice events,Finish Line events
ATTACH;FMTTYPE=image/jpeg:https://allamerica.org/wp-content/uploads/2022/08/love-riverside.jpg
END:VEVENT
BEGIN:VEVENT
DTSTART;TZID=America/Chicago:20221001T093000
DTEND;TZID=America/Chicago:20221001T123000
DTSTAMP:20260420T234350
CREATED:20220902T152314Z
LAST-MODIFIED:20220902T152314Z
UID:6544-1664616600-1664627400@allamerica.org
SUMMARY:Kansas City Dream Center Collaboration
DESCRIPTION:Mobile Food Distribution\nVolunteers will provide a variety of fresh\, healthy foods to hundreds of families in a drive-thru event.
URL:https://allamerica.org/event/kansas-city-dream-center-collaboration/
LOCATION:Kansas City Dream Center\, 425 State Avenue\, Kansas City\, KS\, 66101\, United States
CATEGORIES:Compassion & Justice events,Finish Line events,Kansas,Kansas City
END:VEVENT
BEGIN:VEVENT
DTSTART;VALUE=DATE:20220925
DTEND;VALUE=DATE:20221006
DTSTAMP:20260420T234350
CREATED:20220908T174851Z
LAST-MODIFIED:20220908T174851Z
UID:6555-1664064000-1665014399@allamerica.org
SUMMARY:10 Days
DESCRIPTION:10 Days is a prayer meeting for your entire city. \nThe goal is a season where Jesus Christ is the focus of every heart in your geographical area for 10 complete days. \n10 Days 2022 is from September 25 – October 5. In 2021\, 10 Days was celebrated simultaneously in over 200 cities and towns around the globe.
URL:https://allamerica.org/event/10-days/
CATEGORIES:Finish Line events,Prayer Events
ATTACH;FMTTYPE=image/png:https://allamerica.org/wp-content/uploads/2022/09/10-days.png
END:VEVENT
END:VCALENDAR